BEGIN:VCALENDAR
VERSION:2.0
PRODID:-//Alameda Neighborhoods News - ECPv6.15.20//NONSGML v1.0//EN
CALSCALE:GREGORIAN
METHOD:PUBLISH
X-ORIGINAL-URL:https://alamedaneighborhoodsnews.org
X-WR-CALDESC:Events for Alameda Neighborhoods News
REFRESH-INTERVAL;VALUE=DURATION:PT1H
X-Robots-Tag:noindex
X-PUBLISHED-TTL:PT1H
BEGIN:VTIMEZONE
TZID:UTC
BEGIN:STANDARD
TZOFFSETFROM:+0000
TZOFFSETTO:+0000
TZNAME:UTC
DTSTART:20200101T000000
END:STANDARD
END:VTIMEZONE
BEGIN:VEVENT
DTSTART;TZID=UTC:20210830T173000
DTEND;TZID=UTC:20210830T183000
DTSTAMP:20260423T155630
CREATED:20210824T221612Z
LAST-MODIFIED:20210824T223512Z
UID:569-1630344600-1630348200@alamedaneighborhoodsnews.org
SUMMARY:Slow Streets Alameda - Virtual Open House
DESCRIPTION:Come share your opinions and creative ideas for Alameda’s Slow Streets\, 4.7 miles of roadways that were prioritized for people walking and biking during the COVID 19 pandemic. The City is conducting a thorough evaluation of the program now to determine if\, and how\, the program will continue beyond October 31\, 2021\, the current Council-approved expiration date. \nThis is the final of four virtual open houses\, all with the same Zoom links. \nMeeting ID: 751 652 4227 \nPasscode: ALAMEDA
URL:https://alamedaneighborhoodsnews.org/event/slow-streets-alameda-virtual-open-house/
LOCATION:Zoom
END:VEVENT
END:VCALENDAR